BEGIN:VCALENDAR
VERSION:2.0
PRODID:-//eventon.com NONSGML v1.0//EN
CALSCALE:GREGORIAN
METHOD:PUBLISH
BEGIN:VEVENT
UID:69e63ddeb2124
DTSTAMP:20260420T145318Z
DTSTART:20251216T053000Z
DTEND:20251216T073000Z
LOCATION:
SUMMARY:Third-year Pharmacy students visited Sahara Village Old Age Home
DESCRIPTION:On Tuesday\,  December 16\,  2025\,  third-year Doctor of Pharm
 acy students at Salim Habib University visited&nbsp;Sahara Village Old Age 
 Home\,  as part of their course project. During the visit\,  students condu
 cted an awareness session on Correct Techniques for Administering Commonly 
 Used Dosage Forms Among Geriatrics in Daily Life\,  aimed at educating[..]\
 nhttps://www.shu.edu.pk/events/third-year-pharmacy-students-visited-sahara-
 village-old-age-home/
URL:https://www.shu.edu.pk/events/third-year-pharmacy-students-visited-sahara-village-old-age-home/
END:VEVENT
END:VCALENDAR