BEGIN:VCALENDAR
VERSION:2.0
PRODID:-//eventon.com NONSGML v1.0//EN
CALSCALE:GREGORIAN
METHOD:PUBLISH
BEGIN:VEVENT
UID:69e8a76039079
DTSTAMP:20260422T104800Z
DTSTART:20251228T150000Z
DTEND:20251228T173000Z
LOCATION:
SUMMARY:Grad Week: Farewell Dinner
DESCRIPTION:Our Graduating Class had their Farewell Dinner on Sunday\,  Dec
 ember 28\,  2025\,  at Astasi Cafe. The dinner was memorable and nostalgic\
 ,  as students turned up in their finest splendor to officially bid goodbye
  to the four beautiful years they had spent at SHU. As we see off the Gradu
 ating Class\, [..]\nhttps://www.shu.edu.pk/events/grad-week-farewell-dinner
 -4/
URL:https://www.shu.edu.pk/events/grad-week-farewell-dinner-4/
END:VEVENT
END:VCALENDAR