BEGIN:VCALENDAR
VERSION:2.0
PRODID:-//eventon.com NONSGML v1.0//EN
CALSCALE:GREGORIAN
METHOD:PUBLISH
BEGIN:VEVENT
UID:69e6422ea9f55
DTSTAMP:20260420T151142Z
DTSTART:20251230T053000Z
DTEND:20251230T073000Z
LOCATION:
SUMMARY:AKESP Students Explore Academic Excellence and Career Pathways
DESCRIPTION:Students from The Aga Khan Education Service\,  Pakistan\,  Gil
 git\,  Chitral\,  and the South region visited Salim Habib University (SHU)
  on Tuesday\,  December 30\,  2025. They attended a comprehensive Counselli
 ng Session\,  visited the University&#8217;s fully-equipped labs\,  and exp
 lored a world of career opportunities in trending and emerging fields. They
  were also[..]\nhttps://www.shu.edu.pk/events/akesp-students-explore-academ
 ic-excellence-and-career-pathways/
URL:https://www.shu.edu.pk/events/akesp-students-explore-academic-excellence-and-career-pathways/
END:VEVENT
END:VCALENDAR