BEGIN:VCALENDAR
VERSION:2.0
PRODID:-//eventon.com NONSGML v1.0//EN
CALSCALE:GREGORIAN
METHOD:PUBLISH
BEGIN:VEVENT
UID:69e641a801d37
DTSTAMP:20260420T150928Z
DTSTART:20251229T053000Z
DTEND:20251229T080000Z
LOCATION:
SUMMARY:Tariq Amin Library Hosts an Enriching Winter Young Leaders Program
DESCRIPTION:The Winter Young Leaders Program\,  organized by the Tariq Amin
  Library\,  Salim Habib University\,  from December 29\,  2025\,  to Januar
 y 1\,  2026\,  was a memorable and enriching experience for children aged 7
 –12. The children had a great time participating in a wide range of engag
 ing activities\,  including hands-on STEM projects\, [..]\nhttps://www.shu.
 edu.pk/events/tariq-amin-library-hosts-an-enriching-winter-young-leaders-pr
 ogram/
URL:https://www.shu.edu.pk/events/tariq-amin-library-hosts-an-enriching-winter-young-leaders-program/
END:VEVENT
END:VCALENDAR