BEGIN:VCALENDAR
VERSION:2.0
PRODID:-//eventon.com NONSGML v1.0//EN
CALSCALE:GREGORIAN
METHOD:PUBLISH
BEGIN:VEVENT
UID:69e89c05f29e9
DTSTAMP:20260422T095933Z
DTSTART:20260105T100000Z
DTEND:20260105T113000Z
LOCATION:
SUMMARY:CLT - Gene Programming on Health Intervention
DESCRIPTION:Salim Habib University (SHU) organized a Faculty Development Pr
 ogram on Gene Programming on Health Intervention on Monday\,  January 5\,  
 2026\,  as part of the University’s Center of Learning and Teaching (CLT)
 . The session was conducted by Dr. Hassan Baig\,  Assistant Professor\,  Un
 iversity of Connecticut\,  USA.\nhttps://www.shu.edu.pk/events/clt-gene-pro
 gramming-on-health-intervention/
URL:https://www.shu.edu.pk/events/clt-gene-programming-on-health-intervention/
END:VEVENT
END:VCALENDAR