BEGIN:VCALENDAR
VERSION:2.0
PRODID:-//eventon.com NONSGML v1.0//EN
CALSCALE:GREGORIAN
METHOD:PUBLISH
BEGIN:VEVENT
UID:69e8ad6927ed3
DTSTAMP:20260422T111345Z
DTSTART:20260104T103000Z
DTEND:20260104T123000Z
LOCATION:
SUMMARY:Department of Business Administration Hosts MBA Capstone Project Presentations
DESCRIPTION:The Department of Business Administration\,  Faculty of Managem
 ent Sciences\,  Salim Habib University\,  hosted the final presentations fo
 r MBA Capstone Projects on January 4\,  2026. MBA students shared their cap
 stone projects\,  showing strong analysis\,  strategic thinking\,  and crea
 tive solutions to real business problems. A panel of experts from academia 
 and industry[..]\nhttps://www.shu.edu.pk/events/department-of-business-admi
 nistration-hosts-mba-capstone-project-presentations/
URL:https://www.shu.edu.pk/events/department-of-business-administration-hosts-mba-capstone-project-presentations/
END:VEVENT
END:VCALENDAR