BEGIN:VCALENDAR
VERSION:2.0
PRODID:-//eventon.com NONSGML v1.0//EN
CALSCALE:GREGORIAN
METHOD:PUBLISH
BEGIN:VEVENT
UID:69e89c3c5a466
DTSTAMP:20260422T100028Z
DTSTART:20260109T053000Z
DTEND:20260109T073000Z
LOCATION:
SUMMARY:Center for AI Digital Arts & Creative Design - Undergraduate and Graduate Project Showcase
DESCRIPTION:The Project Display\,  an Undergraduate and Graduate Project Sh
 owcase organized by the Center for AI Digital Arts &amp; Creative Design\, 
  Salim Habib University\,  was held on Thursday\,  January 9\,  2026. The e
 vent featured an impressive display of our student projects and presentatio
 ns that blended creativity\,  technology\,  and imagination through visual[
 ..]\nhttps://www.shu.edu.pk/events/center-for-ai-digital-arts-creative-desi
 gn-undergraduate-and-graduate-project-showcase/
URL:https://www.shu.edu.pk/events/center-for-ai-digital-arts-creative-design-undergraduate-and-graduate-project-showcase/
END:VEVENT
END:VCALENDAR