BEGIN:VCALENDAR
VERSION:2.0
PRODID:-//eventon.com NONSGML v1.0//EN
CALSCALE:GREGORIAN
METHOD:PUBLISH
BEGIN:VEVENT
UID:69e6533e0533a
DTSTAMP:20260420T162430Z
DTSTART:20260109T050000Z
DTEND:20260109T110000Z
LOCATION:
SUMMARY:Faculty Development Workshop on The Art of & Science of Case Pedagogy
DESCRIPTION:The Department of Social Sciences &amp; Humanities\,  Faculty o
 f Management Sciences\,  Salim Habib University\,  organized a Faculty Deve
 lopment Workshop on The Art of &amp; Science of Case Pedagogy on Friday\,  
 January 9\,  2026\,  as part of the University’s Center of Learning and T
 eaching (CLT). The workshop was conducted by Dr[..]\nhttps://www.shu.edu.pk
 /events/faculty-development-workshop-on-the-art-of-science-of-case-pedagogy
 /
URL:https://www.shu.edu.pk/events/faculty-development-workshop-on-the-art-of-science-of-case-pedagogy/
END:VEVENT
END:VCALENDAR