BEGIN:VCALENDAR
VERSION:2.0
PRODID:-//eventon.com NONSGML v1.0//EN
CALSCALE:GREGORIAN
METHOD:PUBLISH
BEGIN:VEVENT
UID:69e89bddd0e60
DTSTAMP:20260422T095853Z
DTSTART:20260113T043000Z
DTEND:20260113T053000Z
LOCATION:
SUMMARY:Pre-Alumni Association Breakfast
DESCRIPTION:The Center for Industry Linkages &amp; Placements (CILP) at Sal
 im Habib University (SHU) organized the first-ever Pre-Alumni Association B
 reakfast on Tuesday\,  January 13\,  2026. The event served as a platform f
 or meaningful discussions on future initiatives\,  engagement opportunities
 \,  and collaborative activities aimed at strengthening alumni relations. N
 otably present at the[..]\nhttps://www.shu.edu.pk/events/pre-alumni-associa
 tion-breakfast/
URL:https://www.shu.edu.pk/events/pre-alumni-association-breakfast/
END:VEVENT
END:VCALENDAR