BEGIN:VCALENDAR
VERSION:2.0
PRODID:-//eventon.com NONSGML v1.0//EN
CALSCALE:GREGORIAN
METHOD:PUBLISH
BEGIN:VEVENT
UID:69e668e2c61ba
DTSTAMP:20260420T175650Z
DTSTART:20250730T094600Z
DTEND:20250731T094600Z
LOCATION:
SUMMARY:SHU Sports Showdown
DESCRIPTION:Faculty vs Staff The SHU Sports Showdown featured an exciting F
 aculty vs Staff sports event\,  celebrating unity\,  teamwork\,  and a heal
 thy competitive spirit within the Salim Habib University community. The eve
 nt provided a refreshing platform for faculty and staff members to engage i
 n friendly competition\,  promoting physical well-being\,  collaboration\, 
  and[..]\nhttps://www.shu.edu.pk/events/shu-sports-showdown-3/
URL:https://www.shu.edu.pk/events/shu-sports-showdown-3/
END:VEVENT
END:VCALENDAR