BEGIN:VCALENDAR
VERSION:2.0
PRODID:-//eventon.com NONSGML v1.0//EN
CALSCALE:GREGORIAN
METHOD:PUBLISH
BEGIN:VEVENT
UID:69e642386cd5c
DTSTAMP:20260420T151152Z
DTSTART:20251226T103000Z
DTEND:20251226T113000Z
LOCATION:
SUMMARY:SHU X GreenO
DESCRIPTION:Salim Habib University has signed a Letter of Understanding wit
 h GreenO to establish and sustain a mutually beneficial partnership while c
 reating meaningful brand visibility opportunities. The initiation of this i
 ncredible partnership would not have been possible without the dedicated ef
 forts of Mr. Asif Yaqoob\,  Deputy Manager Marketing &amp; Student Affairs\
 , [..]\nhttps://www.shu.edu.pk/events/shu-x-green-o/
URL:https://www.shu.edu.pk/events/shu-x-green-o/
END:VEVENT
END:VCALENDAR