BEGIN:VCALENDAR
VERSION:2.0
PRODID:-//eventon.com NONSGML v1.0//EN
CALSCALE:GREGORIAN
METHOD:PUBLISH
BEGIN:VEVENT
UID:69e6209a4d8e4
DTSTAMP:20260420T124826Z
DTSTART:20260119T043000Z
DTEND:20260119T053000Z
LOCATION:
SUMMARY:SHU Explores Strategic Collaboration with Afeef Group to Strengthen Academia–Industry Linkages
DESCRIPTION:Prof. Dr. Muhammad Asif Shamim\,  Associate Dean\,  Social Scie
 nces &amp; Humanities\,  Head of the Office of Graduate Studies\,  and Dire
 ctor of the Center for Policy Research &amp; Sustainability (CPRS)\,  Salim
  Habib University\,  recently met with Mr. Rashid Siddiqui\,  Chairman Afee
 f Group\,  a prominent Pakistani industrialist\,  exporter\,  and business 
 leader\,  who’s[..]\nhttps://www.shu.edu.pk/events/shu-explores-strategic
 -collaboration-with-afeef-group-to-strengthen-academia-industry-linkages/
URL:https://www.shu.edu.pk/events/shu-explores-strategic-collaboration-with-afeef-group-to-strengthen-academia-industry-linkages/
END:VEVENT
END:VCALENDAR