BEGIN:VCALENDAR
VERSION:2.0
PRODID:-//eventon.com NONSGML v1.0//EN
CALSCALE:GREGORIAN
METHOD:PUBLISH
BEGIN:VEVENT
UID:69e642335be9b
DTSTAMP:20260420T151147Z
DTSTART:20260121T053000Z
DTEND:20260121T073000Z
LOCATION:
SUMMARY:SHU Signs Collaborative Agreement with Hum Hain Shaheen Foundation
DESCRIPTION:On Wednesday\,  January 21\,  2026\,  a three-member delegation
 \,  led by Mr. Emad ud din Nizami\,  Chairman of Hum Hain Shaheen Foundatio
 n\,  visited Salim Habib University. The delegation was warmly welcomed by 
 Prof. Dr. Engr. Sheeraz Arif\,  and Mr Zahid Badshah\,  Professor of Practi
 ce\,  Department of Computer Science\,  Mr Farhan Arif\, [..]\nhttps://www.
 shu.edu.pk/events/shu-signs-collaborative-agreement-with-hum-hain-shaheen-f
 oundation/
URL:https://www.shu.edu.pk/events/shu-signs-collaborative-agreement-with-hum-hain-shaheen-foundation/
END:VEVENT
END:VCALENDAR