BEGIN:VCALENDAR
VERSION:2.0
PRODID:-//eventon.com NONSGML v1.0//EN
CALSCALE:GREGORIAN
METHOD:PUBLISH
BEGIN:VEVENT
UID:69e657427f34b
DTSTAMP:20260420T164138Z
DTSTART:20260128T053000Z
DTEND:20260128T073000Z
LOCATION:
SUMMARY:Nasra Higher Secondary School Students Visit SHU
DESCRIPTION:Students from Nasra Higher Secondary School visited Salim Habib
  University (SHU) on Wednesday\,  January 28\,  2026. They attended a compr
 ehensive Counselling Session\,  where they were informed about our programs
 \,  visited the University&#8217;s fully-equipped labs\,  and explored a wo
 rld of career opportunities in trending and emerging fields. We are thankfu
 l to[..]\nhttps://www.shu.edu.pk/events/nasra-higher-secondary-school-stude
 nts-visit-shu/
URL:https://www.shu.edu.pk/events/nasra-higher-secondary-school-students-visit-shu/
END:VEVENT
END:VCALENDAR