BEGIN:VCALENDAR
VERSION:2.0
PRODID:-//eventon.com NONSGML v1.0//EN
CALSCALE:GREGORIAN
METHOD:PUBLISH
BEGIN:VEVENT
UID:69e89c3caa2b6
DTSTAMP:20260422T100028Z
DTSTART:20260126T050000Z
DTEND:20260126T070000Z
LOCATION:
SUMMARY:ORIC Leadership Participates in AI-Driven Research Commercialization Workshop
DESCRIPTION:Mr. Azhar Rizvi\,  Director\,  Office of Research\,  Innovation
  &amp; Commericalization (ORIC) and Dr. Rehan Muzamil Butt\,  Assistant Pro
 fessor &amp; Manager\,  University-Industrial Linkages &amp; Technology\,  
 Salim Habib University\,  participated in the one-day Training Workshop on 
 Accelerating Research Commercialization Ecosystem Through AI and AGI tools\
 ,  organized by the Sindh Higher Education Commission\, [..]\nhttps://www.s
 hu.edu.pk/events/oric-leadership-participates-in-ai-driven-research-commerc
 ialization-workshop/
URL:https://www.shu.edu.pk/events/oric-leadership-participates-in-ai-driven-research-commercialization-workshop/
END:VEVENT
END:VCALENDAR