BEGIN:VCALENDAR
VERSION:2.0
PRODID:-//eventon.com NONSGML v1.0//EN
CALSCALE:GREGORIAN
METHOD:PUBLISH
BEGIN:VEVENT
UID:69e65154c6c63
DTSTAMP:20260420T161620Z
DTSTART:20260204T053000Z
DTEND:20260204T063000Z
LOCATION:
SUMMARY:MOU Signing: SHU X Al-Baseer Foundation
DESCRIPTION:Salim Habib University has signed a Memorandum of Understanding
  with Al-Baseer Foundation\,  with the aim of sustaining a collaborative pa
 rtnership to provide advanced professional training and clinical exposure t
 o Pharmacy students\,  implementing Pharmacy Practice modules as part of ou
 r Doctor of Pharmacy curriculum\,  and improving pharmaceutical and clinica
 l care throughout[..]\nhttps://www.shu.edu.pk/events/mou-signing-shu-x-al-b
 aseer-foundation/
URL:https://www.shu.edu.pk/events/mou-signing-shu-x-al-baseer-foundation/
END:VEVENT
END:VCALENDAR