BEGIN:VCALENDAR
VERSION:2.0
PRODID:-//eventon.com NONSGML v1.0//EN
CALSCALE:GREGORIAN
METHOD:PUBLISH
BEGIN:VEVENT
UID:69e642b5393bf
DTSTAMP:20260420T151357Z
DTSTART:20260211T033000Z
DTEND:20260211T073000Z
LOCATION:
SUMMARY:HR 4.0: HR Leaders Summit
DESCRIPTION:HR 4.0: HR Leaders Summit\,  an extraordinary learning experien
 ce organized by Human Capital HR Solutions in collaboration with BizKademy\
 ,  was successfully held at Auditorium 1\,  Fatima Business School\,  on We
 dnesday\,  February 11\,  2026\,  and Salim Habib University was the offici
 al Venue Partner for the event. The summit was one-of-a-kind\,  which[..]\n
 https://www.shu.edu.pk/events/hr-4-0-hr-leaders-summit/
URL:https://www.shu.edu.pk/events/hr-4-0-hr-leaders-summit/
END:VEVENT
END:VCALENDAR