BEGIN:VCALENDAR
VERSION:2.0
PRODID:-//eventon.com NONSGML v1.0//EN
CALSCALE:GREGORIAN
METHOD:PUBLISH
BEGIN:VEVENT
UID:69eb3654c4202
DTSTAMP:20260424T092228Z
DTSTART:20260216T103000Z
DTEND:20260216T113000Z
LOCATION:
SUMMARY:Honoring February-Born Staff Members – 2026
DESCRIPTION:A birthday celebration was held at Salim Habib University on Mo
 nday\,  February 16\,  2026\,  for all members of the staff whose dates of 
 birth fall in February. We wish the happiest of birthdays to all these dear
  employees and pray that they live long\,  happy\,  and successful lives. H
 appy birthday!\nhttps://www.shu.edu.pk/events/honoring-february-born-staff-
 members-2026/
URL:https://www.shu.edu.pk/events/honoring-february-born-staff-members-2026/
END:VEVENT
END:VCALENDAR