BEGIN:VCALENDAR
VERSION:2.0
PRODID:-//eventon.com NONSGML v1.0//EN
CALSCALE:GREGORIAN
METHOD:PUBLISH
BEGIN:VEVENT
UID:69e6416f7c13b
DTSTAMP:20260420T150831Z
DTSTART:20260216T053000Z
DTEND:20260216T073000Z
LOCATION:
SUMMARY:Anti-Drug Awareness Session
DESCRIPTION:The Student Affairs Department\,  Salim Habib University\,  and
  the SHU Character Building Society (CBS)\,  in collaboration with the Anti
 -Narcotics Force (ANF) Sindh\,  successfully organized an Anti-Drug Awarene
 ss Session on Monday\,  February 16\,  2026. The session\,  which featured 
 Major Muhammad Saleem\,  Deputy Director (DDR) ANF Sindh\,  Dr. Maaz Tahmoo
 r\,  Clinical Psychologist\, [..]\nhttps://www.shu.edu.pk/events/anti-drug-
 awareness-session/
URL:https://www.shu.edu.pk/events/anti-drug-awareness-session/
END:VEVENT
END:VCALENDAR