BEGIN:VCALENDAR
VERSION:2.0
PRODID:-//eventon.com NONSGML v1.0//EN
CALSCALE:GREGORIAN
METHOD:PUBLISH
BEGIN:VEVENT
UID:69e8adb038257
DTSTAMP:20260422T111456Z
DTSTART:20260212T053000Z
DTEND:20260213T113000Z
LOCATION:
SUMMARY:Annual Book Festival 2026
DESCRIPTION:Salim Habib University’s Tariq Amin Library hosted the Annual
  Book Festival 2026 from February 12 to 13\,  2026. The Inauguration of the
  Book Fair was held\,  symbolized by a beautiful Ribbon-Cutting Ceremony co
 nducted by Mr. Tariq Amin\,  Founder\,  Salim Habib University. Notably in 
 attendance were Prof. Dr. Irfan Hyder\,  Vice[..]\nhttps://www.shu.edu.pk/e
 vents/annual-book-festival-2026/
URL:https://www.shu.edu.pk/events/annual-book-festival-2026/
END:VEVENT
END:VCALENDAR