BEGIN:VCALENDAR
VERSION:2.0
PRODID:-//eventon.com NONSGML v1.0//EN
CALSCALE:GREGORIAN
METHOD:PUBLISH
BEGIN:VEVENT
UID:69e64190408ae
DTSTAMP:20260420T150904Z
DTSTART:20260217T053000Z
DTEND:20260217T073000Z
LOCATION:
SUMMARY:Guest Lecture Series Session on UX Laws & Principles in Action
DESCRIPTION:The Center for AI Digital Arts &amp; Creative Design\,  Salim H
 abib University\,  organized a Guest Lecture Series Session on UX Laws &amp
 ; Principles in Action on Tuesday\,  February 17\,  2026. The session was c
 onducted by Mr. Sherjeel Javed\,  Head of Design\,  ARY Tech.\nhttps://www.
 shu.edu.pk/events/guest-lecture-series-session-on-ux-laws-principles-in-act
 ion/
URL:https://www.shu.edu.pk/events/guest-lecture-series-session-on-ux-laws-principles-in-action/
END:VEVENT
END:VCALENDAR