BEGIN:VCALENDAR
VERSION:2.0
PRODID:-//eventon.com NONSGML v1.0//EN
CALSCALE:GREGORIAN
METHOD:PUBLISH
BEGIN:VEVENT
UID:69e89bd6df88b
DTSTAMP:20260422T095846Z
DTSTART:20260224T064500Z
DTEND:20260224T080000Z
LOCATION:
SUMMARY:Hands-On Training Workshop titled From Idea to Screen: Crafting Stories (Script Writing for Drama)
DESCRIPTION:The Center for AI Digital Arts &amp; Creative Design\,  Salim H
 abib University\,  organized a Hands-On Training Workshop titled From Idea 
 to Screen: Crafting Stories (Script Writing for Drama) on Tuesday\,  Februa
 ry 24\,  2026. The workshop was conducted by Mr. Danish Hashmi\,  Creative 
 Director &amp; Writer\,  Hashtag Hashmi Media.\nhttps://www.shu.edu.pk/even
 ts/hands-on-training-workshop-titled-from-idea-to-screen-crafting-stories-s
 cript-writing-for-drama/
URL:https://www.shu.edu.pk/events/hands-on-training-workshop-titled-from-idea-to-screen-crafting-stories-script-writing-for-drama/
END:VEVENT
END:VCALENDAR