BEGIN:VCALENDAR
VERSION:2.0
PRODID:-//eventon.com NONSGML v1.0//EN
CALSCALE:GREGORIAN
METHOD:PUBLISH
BEGIN:VEVENT
UID:69e8b0bb69058
DTSTAMP:20260422T112755Z
DTSTART:20260310T053000Z
DTEND:20260310T073000Z
LOCATION:
SUMMARY:Session on Digital Marketing & Advertising: Real-World Case Studies
DESCRIPTION:The Center for AI Digital Arts &amp; Creative Design\,  Salim H
 abib University\,  organized a Guest Lecture Series Session on Digital Mark
 eting &amp; Advertising: Real-World Case Studies on Tuesday\,  March 10\,  
 2026. The session was conducted by Ms. Haniya Rana\,  Head of Sales &amp; M
 arketing\,  Falaknaz Group.\nhttps://www.shu.edu.pk/events/session-on-digit
 al-marketing-advertising-real-world-case-studies/
URL:https://www.shu.edu.pk/events/session-on-digital-marketing-advertising-real-world-case-studies/
END:VEVENT
END:VCALENDAR