BEGIN:VCALENDAR
VERSION:2.0
PRODID:-//eventon.com NONSGML v1.0//EN
CALSCALE:GREGORIAN
METHOD:PUBLISH
BEGIN:VEVENT
UID:69e89c4088447
DTSTAMP:20260422T100032Z
DTSTART:20260309T113000Z
DTEND:20260309T150000Z
LOCATION:
SUMMARY:Grand SHU Iftar for the students
DESCRIPTION:Salim Habib University&#8217;s Student Societies\,  in collabor
 ation with the Student Affairs Department\,  organized a Grand SHU Iftar fo
 r the students on Monday\,  March 09\,  2026. The event brought students to
 gether in a warm and welcoming atmosphere to celebrate the spirit of sharin
 g\,  unity\,  and camaraderie during the month of Ramadan\, [..]\nhttps://w
 ww.shu.edu.pk/events/grand-shu-iftar-for-the-students/
URL:https://www.shu.edu.pk/events/grand-shu-iftar-for-the-students/
END:VEVENT
END:VCALENDAR