BEGIN:VCALENDAR
VERSION:2.0
PRODID:-//eventon.com NONSGML v1.0//EN
CALSCALE:GREGORIAN
METHOD:PUBLISH
BEGIN:VEVENT
UID:69e8add62ce3b
DTSTAMP:20260422T111534Z
DTSTART:20260227T050000Z
DTEND:20260227T070000Z
LOCATION:
SUMMARY:Training Session on Fehm-ul-Quran Course
DESCRIPTION:Salim Habib University\,  in collaboration with the Higher Educ
 ation Commission (HEC)\,  organized an online Training Session on Fehm-ul-Q
 uran Course on February 27\,  2026. The session was conducted by Dr. Ubaid 
 ur Rahman Bashir\,  Author &amp; Principal\,  Institute of Arabic Language\
 ,  Islamabad.\nhttps://www.shu.edu.pk/events/training-session-on-fehm-ul-qu
 ran-course/
URL:https://www.shu.edu.pk/events/training-session-on-fehm-ul-quran-course/
END:VEVENT
END:VCALENDAR