BEGIN:VCALENDAR
VERSION:2.0
PRODID:-//eventon.com NONSGML v1.0//EN
CALSCALE:GREGORIAN
METHOD:PUBLISH
BEGIN:VEVENT
UID:69e6424370637
DTSTAMP:20260420T151203Z
DTSTART:20260121T053000Z
DTEND:20260121T073000Z
LOCATION:
SUMMARY:Pharmacy students at SHU visited the Medicinal Garden at Hamdard University
DESCRIPTION:The Doctor of Pharmacy students at Salim Habib University visit
 ed the Medicinal Garden at Hamdard University on January 21\,  2026. During
  the visit\,  the students gained a deeper understanding of medicinal plant
 s and their applications\,  and gathered comprehensive information to suppo
 rt their academic and research objectives in the field of[..]\nhttps://www.
 shu.edu.pk/events/pharmacy-students-at-shu-visited-the-medicinal-garden-at-
 hamdard-university/
URL:https://www.shu.edu.pk/events/pharmacy-students-at-shu-visited-the-medicinal-garden-at-hamdard-university/
END:VEVENT
END:VCALENDAR