BEGIN:VCALENDAR
VERSION:2.0
PRODID:-//eventon.com NONSGML v1.0//EN
CALSCALE:GREGORIAN
METHOD:PUBLISH
BEGIN:VEVENT
UID:69e6224f9a3c3
DTSTAMP:20260420T125543Z
DTSTART:20260330T103000Z
DTEND:20260330T113000Z
LOCATION:
SUMMARY:Celebrating Our March-Born Staff at SHU
DESCRIPTION:A birthday celebration was held at Salim Habib University on Mo
 nday\,  March 30\,  2026\,  for all members of the staff whose dates of bir
 th fall in March. We wish the happiest of birthdays to all these dear emplo
 yees and pray that they live long\,  happy\,  and successful lives. Happy b
 irthday!\nhttps://www.shu.edu.pk/events/celebrating-our-march-born-staff-at
 -shu/
URL:https://www.shu.edu.pk/events/celebrating-our-march-born-staff-at-shu/
END:VEVENT
END:VCALENDAR