BEGIN:VCALENDAR
VERSION:2.0
PRODID:-//eventon.com NONSGML v1.0//EN
CALSCALE:GREGORIAN
METHOD:PUBLISH
BEGIN:VEVENT
UID:69e8e1e33e8a6
DTSTAMP:20260422T145739Z
DTSTART:20260420T060000Z
DTEND:20260420T073000Z
LOCATION:
SUMMARY:Mentorship Session on From Content to Connections: Strategies to Build Your Brand in the Digital Age
DESCRIPTION:Salim Habib University&#8217;s Center for Industry Linkages &am
 p; Placements (CILP)\,  in collaboration with the Faculty of Management Sci
 ences\,  organized a Mentorship Session titled From Content to Connections:
  Strategies to Build Your Brand in the Digital Age on Monday\,  April 20\, 
  2026. The session was conducted by Ms. Aisha Yousuf\,  CEO[..]\nhttps://ww
 w.shu.edu.pk/events/mentorship-session-on-from-content-to-connections-strat
 egies-to-build-your-brand-in-the-digital-age/
URL:https://www.shu.edu.pk/events/mentorship-session-on-from-content-to-connections-strategies-to-build-your-brand-in-the-digital-age/
END:VEVENT
END:VCALENDAR