BEGIN:VCALENDAR
VERSION:2.0
PRODID:-//eventon.com NONSGML v1.0//EN
CALSCALE:GREGORIAN
METHOD:PUBLISH
BEGIN:VEVENT
UID:69e8cd6aa19b9
DTSTAMP:20260422T133018Z
DTSTART:20260416T043200Z
DTEND:20260416T093200Z
LOCATION:
SUMMARY:Biosciences Students Visit Sindh Institute of Animal Health (SIAH) Laboratories
DESCRIPTION:Students from the Department of Biosciences\,  Faculty of Scien
 ce at Salim Habib University visited the Sindh Institute of Animal Health (
 SIAH) Laboratories\,  Karachi\,  on April 16\,  2026\,  as part of their on
 going experiential learning journey. Dr. Nazeer Hussain Kalhoro\,  Director
  General’s team\,  and Dr. Benazir Kanwal\,  Director of Research and[..]
 \nhttps://www.shu.edu.pk/events/biosciences-students-visit-sindh-institute-
 of-animal-health-siah-laboratories/
URL:https://www.shu.edu.pk/events/biosciences-students-visit-sindh-institute-of-animal-health-siah-laboratories/
END:VEVENT
END:VCALENDAR